Package: wavClusteR Version: 2.40.0 Command: /home/biocbuild/R/R/bin/R CMD INSTALL wavClusteR StartedAt: 2025-03-31 20:44:09 -0000 (Mon, 31 Mar 2025) EndedAt: 2025-03-31 20:44:56 -0000 (Mon, 31 Mar 2025) EllapsedTime: 47.2 seconds RetCode: 0 Status: OK