Package: wavClusteR Version: 2.40.0 Command: chmod a+r wavClusteR -R && F:\biocbuild\bbs-3.20-bioc\R\bin\R.exe CMD build --keep-empty-dirs --no-resave-data wavClusteR StartedAt: 2025-03-31 22:35:26 -0400 (Mon, 31 Mar 2025) EndedAt: 2025-03-31 22:36:50 -0400 (Mon, 31 Mar 2025) EllapsedTime: 84.9 seconds RetCode: 0 Status: OK PackageFile: wavClusteR_2.40.0.tar.gz PackageFileSize: 470.5 KiB