Package: wavClusteR Version: 2.40.0 Command: rm -rf wavClusteR.buildbin-libdir && mkdir wavClusteR.buildbin-libdir && F:\biocbuild\bbs-3.20-bioc\R\bin\R.exe CMD INSTALL --build --library=wavClusteR.buildbin-libdir wavClusteR_2.40.0.tar.gz StartedAt: 2025-04-01 09:28:43 -0400 (Tue, 01 Apr 2025) EndedAt: 2025-04-01 09:29:36 -0400 (Tue, 01 Apr 2025) EllapsedTime: 53.7 seconds RetCode: 0 Status: OK PackageFile: wavClusteR_2.40.0.zip PackageFileSize: 581.7 KiB