Package: wavClusteR Version: 2.40.0 Command: /Library/Frameworks/R.framework/Resources/bin/R CMD INSTALL wavClusteR StartedAt: 2025-03-31 15:53:47 -0400 (Mon, 31 Mar 2025) EndedAt: 2025-03-31 15:55:05 -0400 (Mon, 31 Mar 2025) EllapsedTime: 78.0 seconds RetCode: 0 Status: OK