Package: wateRmelon Version: 2.12.0 Command: F:\biocbuild\bbs-3.20-bioc\R\bin\R.exe CMD INSTALL wateRmelon StartedAt: 2025-03-31 17:05:13 -0400 (Mon, 31 Mar 2025) EndedAt: 2025-03-31 17:07:10 -0400 (Mon, 31 Mar 2025) EllapsedTime: 117.3 seconds RetCode: 0 Status: OK