Package: wateRmelon Version: 2.12.0 Command: /Library/Frameworks/R.framework/Resources/bin/R CMD INSTALL wateRmelon StartedAt: 2025-03-31 18:02:06 -0400 (Mon, 31 Mar 2025) EndedAt: 2025-03-31 18:03:10 -0400 (Mon, 31 Mar 2025) EllapsedTime: 64.6 seconds RetCode: 0 Status: OK