Package: wateRmelon Version: 2.12.0 Command: /Library/Frameworks/R.framework/Resources/bin/R CMD build --keep-empty-dirs --no-resave-data wateRmelon StartedAt: 2025-04-01 10:00:56 -0400 (Tue, 01 Apr 2025) EndedAt: 2025-04-01 10:02:57 -0400 (Tue, 01 Apr 2025) EllapsedTime: 120.8 seconds RetCode: 0 Status: OK PackageFile: wateRmelon_2.12.0.tar.gz PackageFileSize: 3.274 MiB