Package: vulcan Version: 1.28.0 Command: /home/biocbuild/R/R/bin/R CMD check --install=check:vulcan.install-out.txt --library=/home/biocbuild/R/R/site-library --no-vignettes --timings vulcan_1.28.0.tar.gz StartedAt: 2025-04-01 11:45:01 -0000 (Tue, 01 Apr 2025) EndedAt: 2025-04-01 11:53:19 -0000 (Tue, 01 Apr 2025) EllapsedTime: 498.3 seconds RetCode: 0 Status: OK CheckDir: vulcan.Rcheck Warnings: 0