Package: vulcan Version: 1.28.0 Command: F:\biocbuild\bbs-3.20-bioc\R\bin\R.exe CMD INSTALL vulcan StartedAt: 2025-03-31 16:46:38 -0400 (Mon, 31 Mar 2025) EndedAt: 2025-03-31 16:47:50 -0400 (Mon, 31 Mar 2025) EllapsedTime: 71.8 seconds RetCode: 0 Status: OK