Package: vulcan Version: 1.28.0 Command: chmod a+r vulcan -R && F:\biocbuild\bbs-3.20-bioc\R\bin\R.exe CMD build --keep-empty-dirs --no-resave-data vulcan StartedAt: 2025-03-31 22:34:38 -0400 (Mon, 31 Mar 2025) EndedAt: 2025-03-31 22:36:46 -0400 (Mon, 31 Mar 2025) EllapsedTime: 128.3 seconds RetCode: 0 Status: OK PackageFile: vulcan_1.28.0.tar.gz PackageFileSize: 254.2 KiB