Package: vsn Version: 3.74.0 Command: /home/biocbuild/R/R/bin/R CMD build --keep-empty-dirs --no-resave-data vsn StartedAt: 2025-04-01 03:28:01 -0000 (Tue, 01 Apr 2025) EndedAt: 2025-04-01 03:29:11 -0000 (Tue, 01 Apr 2025) EllapsedTime: 70.1 seconds RetCode: 0 Status: OK PackageFile: vsn_3.74.0.tar.gz PackageFileSize: 1.35 MiB