Package: vsn Version: 3.74.0 Command: F:\biocbuild\bbs-3.20-bioc\R\bin\R.exe CMD INSTALL vsn StartedAt: 2025-03-31 15:35:05 -0400 (Mon, 31 Mar 2025) EndedAt: 2025-03-31 15:35:32 -0400 (Mon, 31 Mar 2025) EllapsedTime: 26.2 seconds RetCode: 0 Status: OK