Package: vsn Version: 3.74.0 Command: F:\biocbuild\bbs-3.20-bioc\R\bin\R.exe CMD check --no-multiarch --install=check:vsn.install-out.txt --library=F:\biocbuild\bbs-3.20-bioc\R\library --no-vignettes --timings vsn_3.74.0.tar.gz StartedAt: 2025-04-01 07:10:51 -0400 (Tue, 01 Apr 2025) EndedAt: 2025-04-01 07:12:13 -0400 (Tue, 01 Apr 2025) EllapsedTime: 82.1 seconds RetCode: 0 Status: OK CheckDir: vsn.Rcheck Warnings: 0