Package: vsn Version: 3.74.0 Command: /Library/Frameworks/R.framework/Resources/bin/R CMD INSTALL vsn StartedAt: 2025-03-31 15:19:56 -0400 (Mon, 31 Mar 2025) EndedAt: 2025-03-31 15:20:18 -0400 (Mon, 31 Mar 2025) EllapsedTime: 21.4 seconds RetCode: 0 Status: OK