Package: vsclust Version: 1.8.0 Command: /Library/Frameworks/R.framework/Resources/bin/R CMD INSTALL vsclust StartedAt: 2025-03-31 15:51:50 -0400 (Mon, 31 Mar 2025) EndedAt: 2025-03-31 15:52:57 -0400 (Mon, 31 Mar 2025) EllapsedTime: 67.4 seconds RetCode: 0 Status: OK