Package: vsclust Version: 1.8.0 Command: /Library/Frameworks/R.framework/Resources/bin/R CMD build --keep-empty-dirs --no-resave-data vsclust StartedAt: 2025-03-31 22:50:19 -0400 (Mon, 31 Mar 2025) EndedAt: 2025-03-31 22:54:52 -0400 (Mon, 31 Mar 2025) EllapsedTime: 273.2 seconds RetCode: 0 Status: OK PackageFile: vsclust_1.8.0.tar.gz PackageFileSize: 3.712 MiB