Package: vsclust Version: 1.8.0 Command: /Library/Frameworks/R.framework/Resources/bin/R CMD check --install=check:vsclust.install-out.txt --library=/Library/Frameworks/R.framework/Resources/library --no-vignettes --timings vsclust_1.8.0.tar.gz StartedAt: 2025-04-02 12:36:28 -0400 (Wed, 02 Apr 2025) EndedAt: 2025-04-02 12:41:45 -0400 (Wed, 02 Apr 2025) EllapsedTime: 317.0 seconds RetCode: 0 Status: WARNINGS CheckDir: vsclust.Rcheck Warnings: 1