Package: vsclust Version: 1.8.0 Command: /Library/Frameworks/R.framework/Resources/bin/R CMD build --keep-empty-dirs --no-resave-data vsclust StartedAt: 2025-04-01 09:58:39 -0400 (Tue, 01 Apr 2025) EndedAt: 2025-04-01 10:00:56 -0400 (Tue, 01 Apr 2025) EllapsedTime: 136.6 seconds RetCode: 0 Status: OK PackageFile: vsclust_1.8.0.tar.gz PackageFileSize: 3.711 MiB