Package: vissE Version: 1.14.0 Command: /home/biocbuild/R/R/bin/R CMD check --install=check:vissE.install-out.txt --library=/home/biocbuild/R/R/site-library --no-vignettes --timings vissE_1.14.0.tar.gz StartedAt: 2025-04-01 11:44:23 -0000 (Tue, 01 Apr 2025) EndedAt: 2025-04-01 11:46:41 -0000 (Tue, 01 Apr 2025) EllapsedTime: 137.2 seconds RetCode: 0 Status: OK CheckDir: vissE.Rcheck Warnings: 0