Package: viper Version: 1.40.0 Command: /home/biocbuild/R/R/bin/R CMD check --install=check:viper.install-out.txt --library=/home/biocbuild/R/R/site-library --no-vignettes --timings viper_1.40.0.tar.gz StartedAt: 2025-04-01 11:44:08 -0000 (Tue, 01 Apr 2025) EndedAt: 2025-04-01 11:48:26 -0000 (Tue, 01 Apr 2025) EllapsedTime: 257.4 seconds RetCode: 0 Status: WARNINGS CheckDir: viper.Rcheck Warnings: 1