Package: viper Version: 1.40.0 Command: /home/biocbuild/R/R/bin/R CMD build --keep-empty-dirs --no-resave-data viper StartedAt: 2025-04-01 03:26:56 -0000 (Tue, 01 Apr 2025) EndedAt: 2025-04-01 03:30:59 -0000 (Tue, 01 Apr 2025) EllapsedTime: 243.3 seconds RetCode: 0 Status: OK PackageFile: viper_1.40.0.tar.gz PackageFileSize: 492.7 KiB