Package: viper Version: 1.40.0 Command: chmod a+r viper -R && F:\biocbuild\bbs-3.20-bioc\R\bin\R.exe CMD build --keep-empty-dirs --no-resave-data viper StartedAt: 2025-03-31 22:33:14 -0400 (Mon, 31 Mar 2025) EndedAt: 2025-03-31 22:38:29 -0400 (Mon, 31 Mar 2025) EllapsedTime: 314.8 seconds RetCode: 0 Status: OK PackageFile: viper_1.40.0.tar.gz PackageFileSize: 314.1 KiB