Package: viper Version: 1.40.0 Command: rm -rf viper.buildbin-libdir && mkdir viper.buildbin-libdir && F:\biocbuild\bbs-3.20-bioc\R\bin\R.exe CMD INSTALL --build --library=viper.buildbin-libdir viper_1.40.0.tar.gz StartedAt: 2025-04-01 09:28:20 -0400 (Tue, 01 Apr 2025) EndedAt: 2025-04-01 09:28:53 -0400 (Tue, 01 Apr 2025) EllapsedTime: 32.6 seconds RetCode: 0 Status: OK PackageFile: viper_1.40.0.zip PackageFileSize: 575.3 KiB