Package: viper Version: 1.40.0 Command: /Library/Frameworks/R.framework/Resources/bin/R CMD build --keep-empty-dirs --no-resave-data viper StartedAt: 2025-03-31 22:49:50 -0400 (Mon, 31 Mar 2025) EndedAt: 2025-03-31 22:57:12 -0400 (Mon, 31 Mar 2025) EllapsedTime: 441.4 seconds RetCode: 0 Status: OK PackageFile: viper_1.40.0.tar.gz PackageFileSize: 503.3 KiB