Package: viper Version: 1.40.0 Command: /Library/Frameworks/R.framework/Resources/bin/R CMD INSTALL viper StartedAt: 2025-03-31 17:10:38 -0400 (Mon, 31 Mar 2025) EndedAt: 2025-03-31 17:10:52 -0400 (Mon, 31 Mar 2025) EllapsedTime: 13.9 seconds RetCode: 0 Status: OK