Package: vidger Version: 1.26.0 Command: /home/biocbuild/R/R/bin/R CMD INSTALL vidger StartedAt: 2025-03-31 20:44:58 -0000 (Mon, 31 Mar 2025) EndedAt: 2025-03-31 20:45:40 -0000 (Mon, 31 Mar 2025) EllapsedTime: 42.4 seconds RetCode: 0 Status: OK