Package: vidger Version: 1.26.0 Command: /home/biocbuild/bbs-3.20-bioc/R/bin/R CMD INSTALL vidger StartedAt: 2025-03-31 15:36:44 -0400 (Mon, 31 Mar 2025) EndedAt: 2025-03-31 15:37:16 -0400 (Mon, 31 Mar 2025) EllapsedTime: 31.8 seconds RetCode: 0 Status: OK