Package: veloviz Version: 1.12.0 Command: /home/biocbuild/R/R/bin/R CMD INSTALL veloviz StartedAt: 2025-03-31 20:17:14 -0000 (Mon, 31 Mar 2025) EndedAt: 2025-03-31 20:17:40 -0000 (Mon, 31 Mar 2025) EllapsedTime: 26.5 seconds RetCode: 0 Status: OK