Package: veloviz Version: 1.12.0 Command: /home/biocbuild/R/R/bin/R CMD build --keep-empty-dirs --no-resave-data veloviz StartedAt: 2025-04-01 03:26:28 -0000 (Tue, 01 Apr 2025) EndedAt: 2025-04-01 03:26:56 -0000 (Tue, 01 Apr 2025) EllapsedTime: 28.0 seconds RetCode: 0 Status: OK PackageFile: veloviz_1.12.0.tar.gz PackageFileSize: 3.568 MiB