Package: velociraptor Version: 1.16.0 Command: rm -rf velociraptor.buildbin-libdir && mkdir velociraptor.buildbin-libdir && /Users/biocbuild/BBS/utils/build-universal.sh velociraptor_1.16.0.tar.gz /Library/Frameworks/R.framework/Resources/bin/R velociraptor.buildbin-libdir StartedAt: 2025-04-01 12:58:33 -0400 (Tue, 01 Apr 2025) EndedAt: 2025-04-01 12:59:19 -0400 (Tue, 01 Apr 2025) EllapsedTime: 46.1 seconds RetCode: 0 Status: OK PackageFile: velociraptor_1.16.0.tgz PackageFileSize: 931.3 KiB