Package: vbmp Version: 1.74.0 Command: /Library/Frameworks/R.framework/Resources/bin/R CMD INSTALL vbmp StartedAt: 2025-03-31 15:03:32 -0400 (Mon, 31 Mar 2025) EndedAt: 2025-03-31 15:03:48 -0400 (Mon, 31 Mar 2025) EllapsedTime: 16.2 seconds RetCode: 0 Status: OK