Package: variancePartition Version: 1.36.3 Command: F:\biocbuild\bbs-3.20-bioc\R\bin\R.exe CMD INSTALL variancePartition StartedAt: 2025-03-31 15:36:32 -0400 (Mon, 31 Mar 2025) EndedAt: 2025-03-31 15:40:56 -0400 (Mon, 31 Mar 2025) EllapsedTime: 263.6 seconds RetCode: 0 Status: OK