Package: variancePartition Version: 1.36.3 Command: rm -rf variancePartition.buildbin-libdir && mkdir variancePartition.buildbin-libdir && /Users/biocbuild/BBS/utils/build-universal.sh variancePartition_1.36.3.tar.gz /Library/Frameworks/R.framework/Resources/bin/R variancePartition.buildbin-libdir StartedAt: 2025-03-12 16:38:04 -0400 (Wed, 12 Mar 2025) EndedAt: 2025-03-12 16:38:26 -0400 (Wed, 12 Mar 2025) EllapsedTime: 21.6 seconds RetCode: 0 Status: OK PackageFile: variancePartition_1.36.3.tgz PackageFileSize: 5.121 MiB