Package: updateObject Version: 1.10.0 Command: /home/biocbuild/R/R/bin/R CMD build --keep-empty-dirs --no-resave-data updateObject StartedAt: 2025-04-01 03:23:21 -0000 (Tue, 01 Apr 2025) EndedAt: 2025-04-01 03:23:48 -0000 (Tue, 01 Apr 2025) EllapsedTime: 27.0 seconds RetCode: 0 Status: OK PackageFile: updateObject_1.10.0.tar.gz PackageFileSize: 1.313 MiB