Package: updateObject Version: 1.10.0 Command: /Library/Frameworks/R.framework/Resources/bin/R CMD check --install=check:updateObject.install-out.txt --library=/Library/Frameworks/R.framework/Resources/library --no-vignettes --timings updateObject_1.10.0.tar.gz StartedAt: 2025-04-01 10:43:26 -0400 (Tue, 01 Apr 2025) EndedAt: 2025-04-01 10:45:06 -0400 (Tue, 01 Apr 2025) EllapsedTime: 100.1 seconds RetCode: 0 Status: OK CheckDir: updateObject.Rcheck Warnings: 0