Package: updateObject Version: 1.10.0 Command: /Library/Frameworks/R.framework/Resources/bin/R CMD build --keep-empty-dirs --no-resave-data updateObject StartedAt: 2025-03-31 22:46:24 -0400 (Mon, 31 Mar 2025) EndedAt: 2025-03-31 22:47:07 -0400 (Mon, 31 Mar 2025) EllapsedTime: 42.7 seconds RetCode: 0 Status: OK PackageFile: updateObject_1.10.0.tar.gz PackageFileSize: 1.289 MiB