Package: updateObject Version: 1.10.0 Command: rm -rf updateObject.buildbin-libdir && mkdir updateObject.buildbin-libdir && /Users/biocbuild/BBS/utils/build-universal.sh updateObject_1.10.0.tar.gz /Library/Frameworks/R.framework/Resources/bin/R updateObject.buildbin-libdir StartedAt: 2025-04-01 12:58:08 -0400 (Tue, 01 Apr 2025) EndedAt: 2025-04-01 12:58:20 -0400 (Tue, 01 Apr 2025) EllapsedTime: 12.0 seconds RetCode: 0 Status: OK PackageFile: updateObject_1.10.0.tgz PackageFileSize: 1.343 MiB