Package: universalmotif Version: 1.24.2 Command: rm -rf universalmotif.buildbin-libdir && mkdir universalmotif.buildbin-libdir && /Users/biocbuild/BBS/utils/build-universal.sh universalmotif_1.24.2.tar.gz /Library/Frameworks/R.framework/Resources/bin/R universalmotif.buildbin-libdir StartedAt: 2025-04-02 16:45:01 -0400 (Wed, 02 Apr 2025) EndedAt: 2025-04-02 16:47:00 -0400 (Wed, 02 Apr 2025) EllapsedTime: 119.1 seconds RetCode: 0 Status: OK PackageFile: universalmotif_1.24.2.tgz PackageFileSize: 5.636 MiB