Package: uncoverappLib Version: 1.16.0 Command: rm -rf uncoverappLib.buildbin-libdir && mkdir uncoverappLib.buildbin-libdir && F:\biocbuild\bbs-3.20-bioc\R\bin\R.exe CMD INSTALL --build --library=uncoverappLib.buildbin-libdir uncoverappLib_1.16.0.tar.gz StartedAt: 2025-04-01 09:27:22 -0400 (Tue, 01 Apr 2025) EndedAt: 2025-04-01 09:28:39 -0400 (Tue, 01 Apr 2025) EllapsedTime: 76.7 seconds RetCode: 0 Status: OK PackageFile: uncoverappLib_1.16.0.zip PackageFileSize: 2.842 MiB