Package: uncoverappLib Version: 1.16.0 Command: rm -rf uncoverappLib.buildbin-libdir && mkdir uncoverappLib.buildbin-libdir && /Users/biocbuild/BBS/utils/build-universal.sh uncoverappLib_1.16.0.tar.gz /Library/Frameworks/R.framework/Resources/bin/R uncoverappLib.buildbin-libdir StartedAt: 2025-04-01 12:57:59 -0400 (Tue, 01 Apr 2025) EndedAt: 2025-04-01 13:00:03 -0400 (Tue, 01 Apr 2025) EllapsedTime: 123.3 seconds RetCode: 0 Status: OK PackageFile: uncoverappLib_1.16.0.tgz PackageFileSize: 2.832 MiB