Package: uSORT Version: 1.32.0 Command: /Library/Frameworks/R.framework/Resources/bin/R CMD build --keep-empty-dirs --no-resave-data uSORT StartedAt: 2025-03-31 22:46:48 -0400 (Mon, 31 Mar 2025) EndedAt: 2025-03-31 22:48:02 -0400 (Mon, 31 Mar 2025) EllapsedTime: 73.7 seconds RetCode: 0 Status: OK PackageFile: uSORT_1.32.0.tar.gz PackageFileSize: 2.814 MiB