Package: txdbmaker Version: 1.2.1 Command: /home/biocbuild/R/R/bin/R CMD INSTALL txdbmaker StartedAt: 2025-03-31 20:39:27 -0000 (Mon, 31 Mar 2025) EndedAt: 2025-03-31 20:40:16 -0000 (Mon, 31 Mar 2025) EllapsedTime: 48.8 seconds RetCode: 0 Status: OK