Package: txdbmaker Version: 1.2.1 Command: chmod a+r txdbmaker -R && F:\biocbuild\bbs-3.20-bioc\R\bin\R.exe CMD build --keep-empty-dirs --no-resave-data txdbmaker StartedAt: 2025-03-31 22:29:43 -0400 (Mon, 31 Mar 2025) EndedAt: 2025-03-31 22:31:52 -0400 (Mon, 31 Mar 2025) EllapsedTime: 128.8 seconds RetCode: 0 Status: OK PackageFile: txdbmaker_1.2.1.tar.gz PackageFileSize: 14.53 MiB