Package: txdbmaker Version: 1.2.1 Command: rm -rf txdbmaker.buildbin-libdir && mkdir txdbmaker.buildbin-libdir && F:\biocbuild\bbs-3.20-bioc\R\bin\R.exe CMD INSTALL --build --library=txdbmaker.buildbin-libdir txdbmaker_1.2.1.tar.gz StartedAt: 2025-04-01 09:27:08 -0400 (Tue, 01 Apr 2025) EndedAt: 2025-04-01 09:28:25 -0400 (Tue, 01 Apr 2025) EllapsedTime: 76.2 seconds RetCode: 0 Status: OK PackageFile: txdbmaker_1.2.1.zip PackageFileSize: 1.247 MiB