Package: txcutr Version: 1.12.0 Command: /Library/Frameworks/R.framework/Resources/bin/R CMD build --keep-empty-dirs --no-resave-data txcutr StartedAt: 2025-04-01 09:39:24 -0400 (Tue, 01 Apr 2025) EndedAt: 2025-04-01 09:40:56 -0400 (Tue, 01 Apr 2025) EllapsedTime: 92.1 seconds RetCode: 0 Status: OK PackageFile: txcutr_1.12.0.tar.gz PackageFileSize: 314.9 KiB