Package: twoddpcr Version: 1.30.0 Command: F:\biocbuild\bbs-3.20-bioc\R\bin\R.exe CMD check --no-multiarch --install=check:twoddpcr.install-out.txt --library=F:\biocbuild\bbs-3.20-bioc\R\library --no-vignettes --timings twoddpcr_1.30.0.tar.gz StartedAt: 2025-04-01 07:02:52 -0400 (Tue, 01 Apr 2025) EndedAt: 2025-04-01 07:05:31 -0400 (Tue, 01 Apr 2025) EllapsedTime: 159.0 seconds RetCode: 0 Status: OK CheckDir: twoddpcr.Rcheck Warnings: 0