Package: twoddpcr Version: 1.30.0 Command: /Library/Frameworks/R.framework/Resources/bin/R CMD build --keep-empty-dirs --no-resave-data twoddpcr StartedAt: 2025-03-31 22:44:09 -0400 (Mon, 31 Mar 2025) EndedAt: 2025-03-31 22:50:06 -0400 (Mon, 31 Mar 2025) EllapsedTime: 357.3 seconds RetCode: 0 Status: OK PackageFile: twoddpcr_1.30.0.tar.gz PackageFileSize: 3.968 MiB