Package: twoddpcr Version: 1.30.0 Command: /Library/Frameworks/R.framework/Resources/bin/R CMD build --keep-empty-dirs --no-resave-data twoddpcr StartedAt: 2025-04-01 09:38:39 -0400 (Tue, 01 Apr 2025) EndedAt: 2025-04-01 09:41:22 -0400 (Tue, 01 Apr 2025) EllapsedTime: 163.6 seconds RetCode: 0 Status: OK PackageFile: twoddpcr_1.30.0.tar.gz PackageFileSize: 4.243 MiB