Package: twoddpcr Version: 1.30.0 Command: rm -rf twoddpcr.buildbin-libdir && mkdir twoddpcr.buildbin-libdir && /Users/biocbuild/BBS/utils/build-universal.sh twoddpcr_1.30.0.tar.gz /Library/Frameworks/R.framework/Resources/bin/R twoddpcr.buildbin-libdir StartedAt: 2025-04-02 16:44:02 -0400 (Wed, 02 Apr 2025) EndedAt: 2025-04-02 16:44:17 -0400 (Wed, 02 Apr 2025) EllapsedTime: 14.9 seconds RetCode: 0 Status: OK PackageFile: twoddpcr_1.30.0.tgz PackageFileSize: 5.063 MiB