Package: ttgsea Version: 1.14.0 Command: F:\biocbuild\bbs-3.20-bioc\R\bin\R.exe CMD INSTALL ttgsea StartedAt: 2025-03-31 17:06:10 -0400 (Mon, 31 Mar 2025) EndedAt: 2025-03-31 17:06:31 -0400 (Mon, 31 Mar 2025) EllapsedTime: 21.7 seconds RetCode: 0 Status: OK